BEGIN:VCALENDAR
PRODID:-//PUBBLE//agenda//NL
VERSION:2.0
METHOD:PUBLISH
BEGIN:VEVENT
DTSTART:20260426T170000Z
DTEND:20260426T180000Z
DTSTAMP:20260423T154134Z
UID:c71c7bde-c385-42cb-a3d9-159969d44fad
CREATED:20260423T154134Z
NAME:Meezingen brabantscentrum.nl
X-WR-CALNAME:Meezingen
X-ALT-DESC;FMTTYPE=text/html:<a href='/agenda/2026/4/26/meezingen-62055'>/agenda/2026/4/26/meezingen-62055</a> || <p>Na het succes van vorig jaar houdt Bij De Buren zondag 26 april, Koningsnacht, een nieuwe editie van ‘Meezingen Bij de Buren’.&nbsp;</p><p>Verwacht een avond vol gezelligheid, hapjes en drankjes en een heleboel nummers die je uit volle borst mee mag en kunt zingen!&nbsp;</p><p>De avond begint om 19.00 uur.&nbsp;</p><p>Tickets kosten 10 euro, hiervoor krijg je drie consumptiemunten.</p>
DESCRIPTION:<a href='/agenda/2026/4/26/meezingen-62055'>/agenda/2026/4/26/meezingen-62055</a> || <p>Na het succes van vorig jaar houdt Bij De Buren zondag 26 april, Koningsnacht, een nieuwe editie van ‘Meezingen Bij de Buren’.&nbsp;</p><p>Verwacht een avond vol gezelligheid, hapjes en drankjes en een heleboel nummers die je uit volle borst mee mag en kunt zingen!&nbsp;</p><p>De avond begint om 19.00 uur.&nbsp;</p><p>Tickets kosten 10 euro, hiervoor krijg je drie consumptiemunten.</p>
LAST-MODIFIED:20260423T154134Z
LOCATION: Bij de Buren | Barrierweg 6 Liempde
SEQUENCE:0
STATUS:CONFIRMED
SUMMARY:Meezingen
TRANSP:OPAQUE
END:VEVENT
END:VCALENDAR
