BEGIN:VCALENDAR
PRODID:-//PUBBLE//agenda//NL
VERSION:2.0
METHOD:PUBLISH
BEGIN:VEVENT
DTSTART:20260417T163531Z
DTEND:20260425T083000Z
DTSTAMP:20260419T123432Z
UID:db4a2bbc-c8e6-49c2-a86d-cca2ca7b9cf2
CREATED:20260419T123432Z
NAME:Huisdierenmarkt brabantscentrum.nl
X-WR-CALNAME:Huisdierenmarkt
X-ALT-DESC;FMTTYPE=text/html:<a href='/agenda/2026/4/25/huisdierenmarkt-62025'>/agenda/2026/4/25/huisdierenmarkt-62025</a> || <p class="Normaalplat" pstyle="Normaal plat">Vogelvereniging De Notenkraker houdt zaterdag 25 april weer haar maandelijkse vogel- en kleine huisdierenmarkt op het terrein van handboogvereniging L’Union aan de Heidezoom 2 in Liempde. Het verbod om vogels samen te brengen is weer opgeheven. De markt duurt van 07.30 tot 10.30 uur, de entree bedraagt twee euro per persoon. Kinderen hebben gratis toegang.</p>
DESCRIPTION:<a href='/agenda/2026/4/25/huisdierenmarkt-62025'>/agenda/2026/4/25/huisdierenmarkt-62025</a> || <p class="Normaalplat" pstyle="Normaal plat">Vogelvereniging De Notenkraker houdt zaterdag 25 april weer haar maandelijkse vogel- en kleine huisdierenmarkt op het terrein van handboogvereniging L’Union aan de Heidezoom 2 in Liempde. Het verbod om vogels samen te brengen is weer opgeheven. De markt duurt van 07.30 tot 10.30 uur, de entree bedraagt twee euro per persoon. Kinderen hebben gratis toegang.</p>
LAST-MODIFIED:20260419T123432Z
LOCATION: Doelen L'Union | Heidezoom 2 Liempde
SEQUENCE:0
STATUS:CONFIRMED
SUMMARY:Huisdierenmarkt
TRANSP:OPAQUE
END:VEVENT
END:VCALENDAR
