BEGIN:VCALENDAR
PRODID:-//PUBBLE//agenda//NL
VERSION:2.0
METHOD:PUBLISH
BEGIN:VEVENT
DTSTART:20260417T115017Z
DTEND:20260427T150000Z
DTSTAMP:20260419T123137Z
UID:7f1748b1-b8df-4bb4-b389-0af5aaaed06e
CREATED:20260419T123137Z
NAME:Kinderactiviteiten Koningsdag Boxtel brabantscentrum.nl
X-WR-CALNAME:Kinderactiviteiten Koningsdag Boxtel
X-ALT-DESC;FMTTYPE=text/html:<a href='/agenda/2026/4/27/kinderactiviteiten-koningsdag-boxtel-62021'>/agenda/2026/4/27/kinderactiviteiten-koningsdag-boxtel-62021</a> || <p><strong>Tijdens Koningsdag is er van alles te doen op de Markt voor kinderen. Een overzicht:</strong></p><p>13.00 tot 16.30 Photoboothj, schminken, draaimolen en een doolhof.</p><p>13.30 tot 15.30 Mozaïek Workshop.</p><p>14.00 &amp; 15.00 &amp; 16.00 Poppentheater Muzemuis.</p><p>14.00 &amp; 16.00 Workshop rappen.</p>
DESCRIPTION:<a href='/agenda/2026/4/27/kinderactiviteiten-koningsdag-boxtel-62021'>/agenda/2026/4/27/kinderactiviteiten-koningsdag-boxtel-62021</a> || <p><strong>Tijdens Koningsdag is er van alles te doen op de Markt voor kinderen. Een overzicht:</strong></p><p>13.00 tot 16.30 Photoboothj, schminken, draaimolen en een doolhof.</p><p>13.30 tot 15.30 Mozaïek Workshop.</p><p>14.00 &amp; 15.00 &amp; 16.00 Poppentheater Muzemuis.</p><p>14.00 &amp; 16.00 Workshop rappen.</p>
LAST-MODIFIED:20260419T123137Z
LOCATION: Markt |   Boxtel
SEQUENCE:0
STATUS:CONFIRMED
SUMMARY:Kinderactiviteiten Koningsdag Boxtel
TRANSP:OPAQUE
END:VEVENT
END:VCALENDAR
