BEGIN:VCALENDAR
PRODID:-//PUBBLE//agenda//NL
VERSION:2.0
METHOD:PUBLISH
BEGIN:VEVENT
DTSTART:20260417T114156Z
DTEND:20260417T124156Z
DTSTAMP:20260419T123403Z
UID:1baf56b7-b29b-4146-be9d-ee9a4d4a6472
CREATED:20260419T123403Z
NAME:Koningsvoetbal brabantscentrum.nl
X-WR-CALNAME:Koningsvoetbal
X-ALT-DESC;FMTTYPE=text/html:<a href='/agenda/2026/4/27/koningsvoetbal-62020'>/agenda/2026/4/27/koningsvoetbal-62020</a> || <p class="Normaalplat" pstyle="Normaal plat">Boxtel Vooruit verzorgt op maandag 27 april, in samenwerking met MEP en ODC koningshockey en -voetbal.&nbsp;</p>
DESCRIPTION:<a href='/agenda/2026/4/27/koningsvoetbal-62020'>/agenda/2026/4/27/koningsvoetbal-62020</a> || <p class="Normaalplat" pstyle="Normaal plat">Boxtel Vooruit verzorgt op maandag 27 april, in samenwerking met MEP en ODC koningshockey en -voetbal.&nbsp;</p>
LAST-MODIFIED:20260419T123403Z
LOCATION: Sportpark Wagenaars | Essche Heike 2 Boxtel
SEQUENCE:0
STATUS:CONFIRMED
SUMMARY:Koningsvoetbal
TRANSP:OPAQUE
END:VEVENT
END:VCALENDAR
