BEGIN:VCALENDAR
PRODID:-//PUBBLE//agenda//NL
VERSION:2.0
METHOD:PUBLISH
BEGIN:VEVENT
DTSTART:20260417T110520Z
DTEND:20260417T120520Z
DTSTAMP:20260419T123145Z
UID:d3d182aa-8529-4f4d-bd51-4536a56fc73c
CREATED:20260419T123145Z
NAME:Zes-tegen-zestoernooi vv Irene brabantscentrum.nl
X-WR-CALNAME:Zes-tegen-zestoernooi vv Irene
X-ALT-DESC;FMTTYPE=text/html:<a href='/agenda/2026/4/27/zes-tegen-zestoernooi-vv-irene-62019'>/agenda/2026/4/27/zes-tegen-zestoernooi-vv-irene-62019</a> || <p>Om 12.30 uur start op Koningsdag het jaarlijkse zes tegen zes-voetbaltoernooi op de velden van voetbalclub Irene.&nbsp;</p>
DESCRIPTION:<a href='/agenda/2026/4/27/zes-tegen-zestoernooi-vv-irene-62019'>/agenda/2026/4/27/zes-tegen-zestoernooi-vv-irene-62019</a> || <p>Om 12.30 uur start op Koningsdag het jaarlijkse zes tegen zes-voetbaltoernooi op de velden van voetbalclub Irene.&nbsp;</p>
LAST-MODIFIED:20260419T123145Z
LOCATION: Sportpark De Laat | Kaal Hoefsteeg 1  Gemonde
SEQUENCE:0
STATUS:CONFIRMED
SUMMARY:Zes-tegen-zestoernooi vv Irene
TRANSP:OPAQUE
END:VEVENT
END:VCALENDAR
