BEGIN:VCALENDAR
PRODID:-//PUBBLE//agenda//NL
VERSION:2.0
METHOD:PUBLISH
BEGIN:VEVENT
DTSTART:20260417T110239Z
DTEND:20260417T120239Z
DTSTAMP:20260419T123301Z
UID:60f21ab3-8241-458c-afa2-283a1e112d57
CREATED:20260419T123301Z
NAME:Gemonde viert Koningsdag brabantscentrum.nl
X-WR-CALNAME:Gemonde viert Koningsdag
X-ALT-DESC;FMTTYPE=text/html:<a href='/agenda/2026/4/27/gemonde-viert-koningsdag-62018'>/agenda/2026/4/27/gemonde-viert-koningsdag-62018</a> || <p>Op Koningsdag zijn in sportpark De Laat van 09.00 tot 12.00 uur kinderactiviteiten, georganiseerd door de Gemondse activiteitencommissie. De jeugd heeft zich al aan kunnen melden via de basisschool. Om 12.30 uur start vervolgens het bekende zes tegen zes-voetbaltoernooi op de velden van voetbalclub Irene. Deelname kost 25 euro per team. Aanmelden kan via <a data-fr-linked="true" href="mailto:activiteiten@vvirene.nl">activiteiten@vvirene.nl</a>.</p>
DESCRIPTION:<a href='/agenda/2026/4/27/gemonde-viert-koningsdag-62018'>/agenda/2026/4/27/gemonde-viert-koningsdag-62018</a> || <p>Op Koningsdag zijn in sportpark De Laat van 09.00 tot 12.00 uur kinderactiviteiten, georganiseerd door de Gemondse activiteitencommissie. De jeugd heeft zich al aan kunnen melden via de basisschool. Om 12.30 uur start vervolgens het bekende zes tegen zes-voetbaltoernooi op de velden van voetbalclub Irene. Deelname kost 25 euro per team. Aanmelden kan via <a data-fr-linked="true" href="mailto:activiteiten@vvirene.nl">activiteiten@vvirene.nl</a>.</p>
LAST-MODIFIED:20260419T123301Z
LOCATION: Sportpark De Laat | Kaal Hoefsteeg 1  Gemonde
SEQUENCE:0
STATUS:CONFIRMED
SUMMARY:Gemonde viert Koningsdag
TRANSP:OPAQUE
END:VEVENT
END:VCALENDAR
