BEGIN:VCALENDAR
PRODID:-//PUBBLE//agenda//NL
VERSION:2.0
METHOD:PUBLISH
BEGIN:VEVENT
DTSTART:20260417T105711Z
DTEND:20260417T115711Z
DTSTAMP:20260419T123056Z
UID:33740d39-5c38-4f79-8f5a-5554e3ce39f4
CREATED:20260419T123056Z
NAME:Gemonde zingt mee brabantscentrum.nl
X-WR-CALNAME:Gemonde zingt mee
X-ALT-DESC;FMTTYPE=text/html:<a href='/agenda/2026/4/26/gemonde-zingt-mee-62017'>/agenda/2026/4/26/gemonde-zingt-mee-62017</a> || <p>Gemonde viert niet alleen Koningsdag, maar bouwt de avond van tevoren ook al een feestje.</p><p>Voetbalvereniging Irene houdt zondag 26 april &nbsp;’Gemonde zingt mee’ in haar kantine. Gimmes Vocaal, Groove Piano en en de DJ meezingshow zorgen voor de muziek. De Koningsnacht duurt van 20.00 tot 00.30 uur. Bier, wijn en frisdrank zijn bij de toegangsprijs inbegrepen. Kaartjes zijn in de kantine verkrijgbaar en kosten dertig euro. Op 28 april bedraagt de entree aan de deur 35 euro.</p><p>Als het meezingfestijn is afgelopen, keert de rust maar heel even terug in sportpark De Laat. Op Koningsdag zijn daar namelijk van 09.00 tot 12.00 uur kinderactiviteiten, georganiseerd door de Gemondse activiteitencommissie. De jeugd heeft zich al aan kunnen melden via de basisschool. Om 12.30 uur start vervolgens het bekende zes tegen zes-voetbaltoernooi op de velden van voetbalclub Irene. Deelname kost 25 euro per team. Aanmelden kan via <a data-fr-linked="true" href="mailto:activiteiten@vvirene.nl">activiteiten@vvirene.nl</a>.</p>
DESCRIPTION:<a href='/agenda/2026/4/26/gemonde-zingt-mee-62017'>/agenda/2026/4/26/gemonde-zingt-mee-62017</a> || <p>Gemonde viert niet alleen Koningsdag, maar bouwt de avond van tevoren ook al een feestje.</p><p>Voetbalvereniging Irene houdt zondag 26 april &nbsp;’Gemonde zingt mee’ in haar kantine. Gimmes Vocaal, Groove Piano en en de DJ meezingshow zorgen voor de muziek. De Koningsnacht duurt van 20.00 tot 00.30 uur. Bier, wijn en frisdrank zijn bij de toegangsprijs inbegrepen. Kaartjes zijn in de kantine verkrijgbaar en kosten dertig euro. Op 28 april bedraagt de entree aan de deur 35 euro.</p><p>Als het meezingfestijn is afgelopen, keert de rust maar heel even terug in sportpark De Laat. Op Koningsdag zijn daar namelijk van 09.00 tot 12.00 uur kinderactiviteiten, georganiseerd door de Gemondse activiteitencommissie. De jeugd heeft zich al aan kunnen melden via de basisschool. Om 12.30 uur start vervolgens het bekende zes tegen zes-voetbaltoernooi op de velden van voetbalclub Irene. Deelname kost 25 euro per team. Aanmelden kan via <a data-fr-linked="true" href="mailto:activiteiten@vvirene.nl">activiteiten@vvirene.nl</a>.</p>
LAST-MODIFIED:20260419T123056Z
LOCATION: Sportpark De Laat | Kaal Hoefsteeg 1  Gemonde
SEQUENCE:0
STATUS:CONFIRMED
SUMMARY:Gemonde zingt mee
TRANSP:OPAQUE
END:VEVENT
END:VCALENDAR
