BEGIN:VCALENDAR
PRODID:-//PUBBLE//agenda//NL
VERSION:2.0
METHOD:PUBLISH
BEGIN:VEVENT
DTSTART:20260417T104825Z
DTEND:20260417T114825Z
DTSTAMP:20260419T123145Z
UID:91bab29c-70ed-4cb9-854a-043241cb584b
CREATED:20260419T123145Z
NAME:Koningsdag Esch brabantscentrum.nl
X-WR-CALNAME:Koningsdag Esch
X-ALT-DESC;FMTTYPE=text/html:<a href='/agenda/2026/4/27/koningsdag-esch-62016'>/agenda/2026/4/27/koningsdag-esch-62016</a> || <p>Stichting Evenementencommissie Esch (Soesch) verzorgt in het dorp een gezellig en vertrouwd Koningsdagprogramma.</p><p>De dag begint met een vrolijke kinderoptocht. De deelnemers verzamelen maandag 27 april om 10.45 uur met hun versierde fiets, step of driewieler op het parkeerterrein van dorpshuis De Es in de Dorpsstraat. Uiteraard zijn er prijsjes voor de mooiste fietsjes. Om 11.00 uur gaat de tocht onder begeleiding van muziekvereniging Sint-Willibrordus van start. Rond 11.15 uur wordt de vlag gehesen en klinkt het Wilhelmus. Aansluitend zijn er allerlei activiteiten in en rond het dorpshuis. Een bingo bijvoorbeeld, en een kindervrijmarkt. Er staan ook luchtkussens. Dit programma duurt tot 16.00 uur.</p><p>‘t Bacchuscorps bemant bar en terras van De Es. Die carnavalsvereniging organiseert op Koningsdag wederom een oriëntatiefietstocht. De afstanden zijn 25 en 45 kilometer. Inschrijven kan tussen 12.00 en 13.30 uur bij De Es.</p>
DESCRIPTION:<a href='/agenda/2026/4/27/koningsdag-esch-62016'>/agenda/2026/4/27/koningsdag-esch-62016</a> || <p>Stichting Evenementencommissie Esch (Soesch) verzorgt in het dorp een gezellig en vertrouwd Koningsdagprogramma.</p><p>De dag begint met een vrolijke kinderoptocht. De deelnemers verzamelen maandag 27 april om 10.45 uur met hun versierde fiets, step of driewieler op het parkeerterrein van dorpshuis De Es in de Dorpsstraat. Uiteraard zijn er prijsjes voor de mooiste fietsjes. Om 11.00 uur gaat de tocht onder begeleiding van muziekvereniging Sint-Willibrordus van start. Rond 11.15 uur wordt de vlag gehesen en klinkt het Wilhelmus. Aansluitend zijn er allerlei activiteiten in en rond het dorpshuis. Een bingo bijvoorbeeld, en een kindervrijmarkt. Er staan ook luchtkussens. Dit programma duurt tot 16.00 uur.</p><p>‘t Bacchuscorps bemant bar en terras van De Es. Die carnavalsvereniging organiseert op Koningsdag wederom een oriëntatiefietstocht. De afstanden zijn 25 en 45 kilometer. Inschrijven kan tussen 12.00 en 13.30 uur bij De Es.</p>
LAST-MODIFIED:20260419T123145Z
LOCATION: Dorpshuis De Es | Dorpsstraat 5C Esch
SEQUENCE:0
STATUS:CONFIRMED
SUMMARY:Koningsdag Esch
TRANSP:OPAQUE
END:VEVENT
END:VCALENDAR
