BEGIN:VCALENDAR
PRODID:-//PUBBLE//agenda//NL
VERSION:2.0
METHOD:PUBLISH
BEGIN:VEVENT
DTSTART:20260417T104620Z
DTEND:20260426T150000Z
DTSTAMP:20260419T123305Z
UID:9802e0aa-97ee-405e-aecc-4fd4da05e184
CREATED:20260419T123305Z
NAME:Oranjebraderie brabantscentrum.nl
X-WR-CALNAME:Oranjebraderie
X-ALT-DESC;FMTTYPE=text/html:<a href='/agenda/2026/4/26/oranjebraderie-62015'>/agenda/2026/4/26/oranjebraderie-62015</a> || <p class="Normaalplat" pstyle="Normaal plat">De Oranjebraderie vindt van 11.00 tot 17.00 uur plaats op zondag 26 april, in het centrum van Boxtel. Aansluitend organiseert evenementenstichting Boxtel Vooruit een muziekavond op de Markt.&nbsp;</p>
DESCRIPTION:<a href='/agenda/2026/4/26/oranjebraderie-62015'>/agenda/2026/4/26/oranjebraderie-62015</a> || <p class="Normaalplat" pstyle="Normaal plat">De Oranjebraderie vindt van 11.00 tot 17.00 uur plaats op zondag 26 april, in het centrum van Boxtel. Aansluitend organiseert evenementenstichting Boxtel Vooruit een muziekavond op de Markt.&nbsp;</p>
LAST-MODIFIED:20260419T123305Z
LOCATION: Centrum | Markt 1 Boxtel
SEQUENCE:0
STATUS:CONFIRMED
SUMMARY:Oranjebraderie
TRANSP:OPAQUE
END:VEVENT
END:VCALENDAR
