BEGIN:VCALENDAR
PRODID:-//PUBBLE//agenda//NL
VERSION:2.0
METHOD:PUBLISH
BEGIN:VEVENT
DTSTART:20260416T154649Z
DTEND:20260427T170000Z
DTSTAMP:20260419T123403Z
UID:6f09e436-2873-45d0-b07d-6fc23b1c6cfb
CREATED:20260419T123403Z
NAME:Bijen-, planten- en biermarkt brabantscentrum.nl
X-WR-CALNAME:Bijen-, planten- en biermarkt
X-ALT-DESC;FMTTYPE=text/html:<a href='/agenda/2026/4/27/bijen-planten-en-biermarkt-62008'>/agenda/2026/4/27/bijen-planten-en-biermarkt-62008</a> || <p class="Inl" pstyle="Inl">Inwoners van Liempde hoeven zich tijdens Koningsdag, maandag 27 april, niet te vervelen. In het dorpshart is van alles te beleven, van een vrijmarkt voor de jeugd tot het proeve van streekbieren voor de volwassenen.</p><p pstyle="Normaal plat">Van 11.00 tot 16.00 uur start de bijen- en plantenmarkt op het achtererf van bezoekerscentrum D’n Liempdsen Herd aan de Barrierweg. Bezoekers kunnen hier terecht voor een breed assortiment aan moestuinplanten, bloemen en honing.</p><p pstyle="Normaal plat">Ook bierliefhebbers komen aan hun trekken. Tot 19.00 uur presenteren lokale brouwers hun drankjes aan het publiek. De biertuin vindt eveneens plaats op het achtererf van D’n Liempdsen Herd.</p>
DESCRIPTION:<a href='/agenda/2026/4/27/bijen-planten-en-biermarkt-62008'>/agenda/2026/4/27/bijen-planten-en-biermarkt-62008</a> || <p class="Inl" pstyle="Inl">Inwoners van Liempde hoeven zich tijdens Koningsdag, maandag 27 april, niet te vervelen. In het dorpshart is van alles te beleven, van een vrijmarkt voor de jeugd tot het proeve van streekbieren voor de volwassenen.</p><p pstyle="Normaal plat">Van 11.00 tot 16.00 uur start de bijen- en plantenmarkt op het achtererf van bezoekerscentrum D’n Liempdsen Herd aan de Barrierweg. Bezoekers kunnen hier terecht voor een breed assortiment aan moestuinplanten, bloemen en honing.</p><p pstyle="Normaal plat">Ook bierliefhebbers komen aan hun trekken. Tot 19.00 uur presenteren lokale brouwers hun drankjes aan het publiek. De biertuin vindt eveneens plaats op het achtererf van D’n Liempdsen Herd.</p>
LAST-MODIFIED:20260419T123403Z
LOCATION: D'n Liempdsen Herd | Barrierweg 4 Liempde
SEQUENCE:0
STATUS:CONFIRMED
SUMMARY:Bijen-, planten- en biermarkt
TRANSP:OPAQUE
END:VEVENT
END:VCALENDAR
