BEGIN:VCALENDAR
PRODID:-//PUBBLE//agenda//NL
VERSION:2.0
METHOD:PUBLISH
BEGIN:VEVENT
DTSTART:20260416T154219Z
DTEND:20260427T140000Z
DTSTAMP:20260419T123106Z
UID:9293668f-f11d-4efd-9f35-86192aa2c2d7
CREATED:20260419T123106Z
NAME:Vrijmarkt Liempde brabantscentrum.nl
X-WR-CALNAME:Vrijmarkt Liempde
X-ALT-DESC;FMTTYPE=text/html:<a href='/agenda/2026/4/27/vrijmarkt-liempde-62007'>/agenda/2026/4/27/vrijmarkt-liempde-62007</a> || <p class="Inl" pstyle="Inl">Inwoners van Liempde hoeven zich tijdens Koningsdag, maandag 27 april, niet te vervelen. In het dorpshart is van alles te beleven, van een vrijmarkt voor de jeugd tot het proeve van streekbieren voor de volwassenen.</p><p pstyle="Normaal plat">Van 10.00 tot 16.00 uur spreiden kinderen hun kleedjes uit in het Concordiapark voor de traditionele vrijmarkt. De jonge inwoners verkopen daar tot 16.00 uur hun oude speelgoed, boeken en allerlei snuisterijen.</p>
DESCRIPTION:<a href='/agenda/2026/4/27/vrijmarkt-liempde-62007'>/agenda/2026/4/27/vrijmarkt-liempde-62007</a> || <p class="Inl" pstyle="Inl">Inwoners van Liempde hoeven zich tijdens Koningsdag, maandag 27 april, niet te vervelen. In het dorpshart is van alles te beleven, van een vrijmarkt voor de jeugd tot het proeve van streekbieren voor de volwassenen.</p><p pstyle="Normaal plat">Van 10.00 tot 16.00 uur spreiden kinderen hun kleedjes uit in het Concordiapark voor de traditionele vrijmarkt. De jonge inwoners verkopen daar tot 16.00 uur hun oude speelgoed, boeken en allerlei snuisterijen.</p>
LAST-MODIFIED:20260419T123106Z
LOCATION: Raadhuisplein | Raadhuisplein 1 Liempde
SEQUENCE:0
STATUS:CONFIRMED
SUMMARY:Vrijmarkt Liempde
TRANSP:OPAQUE
END:VEVENT
END:VCALENDAR
