BEGIN:VCALENDAR
PRODID:-//PUBBLE//agenda//NL
VERSION:2.0
METHOD:PUBLISH
BEGIN:VEVENT
DTSTART:20260415T172538Z
DTEND:20260427T143000Z
DTSTAMP:20260419T123534Z
UID:c9117c7e-a5b4-478e-aa68-2e82adddf60f
CREATED:20260419T123534Z
NAME:Vrijmarkt Boxtel brabantscentrum.nl
X-WR-CALNAME:Vrijmarkt Boxtel
X-ALT-DESC;FMTTYPE=text/html:<a href='/agenda/2026/4/27/vrijmarkt-boxtel-61986'>/agenda/2026/4/27/vrijmarkt-boxtel-61986</a> || <p>Op en rondom de Markt in Boxtel vindt een vrijmarkt plaats. Vanaf 11.00 kunnen de kinderen een plekje zoeken. </p>
DESCRIPTION:<a href='/agenda/2026/4/27/vrijmarkt-boxtel-61986'>/agenda/2026/4/27/vrijmarkt-boxtel-61986</a> || <p>Op en rondom de Markt in Boxtel vindt een vrijmarkt plaats. Vanaf 11.00 kunnen de kinderen een plekje zoeken. </p>
LAST-MODIFIED:20260419T123534Z
LOCATION: Markt |   Boxtel
SEQUENCE:0
STATUS:CONFIRMED
SUMMARY:Vrijmarkt Boxtel
TRANSP:OPAQUE
END:VEVENT
END:VCALENDAR
