BEGIN:VCALENDAR
PRODID:-//PUBBLE//agenda//NL
VERSION:2.0
METHOD:PUBLISH
BEGIN:VEVENT
DTSTART:20260415T172349Z
DTEND:20260415T182349Z
DTSTAMP:20260419T123432Z
UID:79656a49-792d-4a4d-b65b-6cae0e3ab8cc
CREATED:20260419T123432Z
NAME:Boxtels Oranje Festival brabantscentrum.nl
X-WR-CALNAME:Boxtels Oranje Festival
X-ALT-DESC;FMTTYPE=text/html:<a href='/agenda/2026/4/25/boxtels-oranje-festival-61985'>/agenda/2026/4/25/boxtels-oranje-festival-61985</a> || <p class="K1CentreerAllekolommen" pstyle="K1Centreer Alle kolommen">Het Boxtels Oranje Festival op zaterdag 25 april is zoals al bekend iets anders van opzet dan gebruikelijk: het festivalterrein op de Markt is afgesloten, de organiserende horecaondernemingen zijn dan dicht. Bezoekers moeten allemaal een ticket kopen. Dit kan via <a href="http://www.ticketsvoortoegang.nl/oranjefestivalboxtel" rel="noopener noreferrer" target="_blank">www.ticketsvoortoegang.nl/oranjefestivalboxtel</a>.</p><p class="T1" pstyle="T1">CENTRALE INGANG</p><p class="Normaalplat" pstyle="Normaal plat">Er komt één centrale ingang op de Markt, om de veiligheid optimaal te kunnen waarborgen. Het programma ziet er als volgt uit: 19.00 DJ Flow, 20.00 Jesse Prins, 21.00 Quido van de Graaf, 22.00 Abba fever XS, 23. 00 Kruzo, 00.00 DJ Flow.</p>
DESCRIPTION:<a href='/agenda/2026/4/25/boxtels-oranje-festival-61985'>/agenda/2026/4/25/boxtels-oranje-festival-61985</a> || <p class="K1CentreerAllekolommen" pstyle="K1Centreer Alle kolommen">Het Boxtels Oranje Festival op zaterdag 25 april is zoals al bekend iets anders van opzet dan gebruikelijk: het festivalterrein op de Markt is afgesloten, de organiserende horecaondernemingen zijn dan dicht. Bezoekers moeten allemaal een ticket kopen. Dit kan via <a href="http://www.ticketsvoortoegang.nl/oranjefestivalboxtel" rel="noopener noreferrer" target="_blank">www.ticketsvoortoegang.nl/oranjefestivalboxtel</a>.</p><p class="T1" pstyle="T1">CENTRALE INGANG</p><p class="Normaalplat" pstyle="Normaal plat">Er komt één centrale ingang op de Markt, om de veiligheid optimaal te kunnen waarborgen. Het programma ziet er als volgt uit: 19.00 DJ Flow, 20.00 Jesse Prins, 21.00 Quido van de Graaf, 22.00 Abba fever XS, 23. 00 Kruzo, 00.00 DJ Flow.</p>
LAST-MODIFIED:20260419T123432Z
LOCATION: Markt |   Boxtel
SEQUENCE:0
STATUS:CONFIRMED
SUMMARY:Boxtels Oranje Festival
TRANSP:OPAQUE
END:VEVENT
END:VCALENDAR
