BEGIN:VCALENDAR
PRODID:-//PUBBLE//agenda//NL
VERSION:2.0
METHOD:PUBLISH
BEGIN:VEVENT
DTSTART:20260414T112744Z
DTEND:20260414T122744Z
DTSTAMP:20260419T123534Z
UID:5c67b656-15f7-4ef6-afa6-bf4889128f25
CREATED:20260419T123534Z
NAME:Film Our Blue World brabantscentrum.nl
X-WR-CALNAME:Film Our Blue World
X-ALT-DESC;FMTTYPE=text/html:<a href='/agenda/2026/4/22/film-our-blue-world-61974'>/agenda/2026/4/22/film-our-blue-world-61974</a> || <p class="Inl" pstyle="Inl">Transitie Boxtel houdt de komende maanden verschillende filmavonden in de bibliotheek aan de Burgakker in Boxtel. Op woensdag 22 april wordt de documentaire Our Blue World vertoond.&nbsp;</p><p class="Normaalplat" pstyle="Normaal plat">De film laat de diepgaande relatie tussen mens en water zien en maakt duidelijk hoe menselijk handelen kan bijdragen aan het herstel van de watersystemen op aarde.&nbsp;</p><p class="Normaalplat" pstyle="Normaal plat">Tegelijkertijd wordt zichtbaar hoe klimaatverandering via water steeds meer impact heeft, met onder meer droogte, overstromingen en verlies van biodiversiteit.&nbsp;</p><p class="Normaalplat" pstyle="Normaal plat">Our Blue World volgt inspirerende mensen van over de hele wereld en laat zien hoe een combinatie van oude kennis en moderne wetenschap kan bijdragen aan een betere balans op aarde.&nbsp;</p><p class="Normaalplat" pstyle="Normaal plat">De film begint om 20.00 uur; vanaf 19.30 uur is er inloop met koffie en thee. De toegang is gratis, een vrijwillige bijdrage wordt op prijs gesteld. Aanmelden kan via e-mail: <a href="mailto:ttboxtel@gmail.com">ttboxtel@gmail.com</a>.</p>
DESCRIPTION:<a href='/agenda/2026/4/22/film-our-blue-world-61974'>/agenda/2026/4/22/film-our-blue-world-61974</a> || <p class="Inl" pstyle="Inl">Transitie Boxtel houdt de komende maanden verschillende filmavonden in de bibliotheek aan de Burgakker in Boxtel. Op woensdag 22 april wordt de documentaire Our Blue World vertoond.&nbsp;</p><p class="Normaalplat" pstyle="Normaal plat">De film laat de diepgaande relatie tussen mens en water zien en maakt duidelijk hoe menselijk handelen kan bijdragen aan het herstel van de watersystemen op aarde.&nbsp;</p><p class="Normaalplat" pstyle="Normaal plat">Tegelijkertijd wordt zichtbaar hoe klimaatverandering via water steeds meer impact heeft, met onder meer droogte, overstromingen en verlies van biodiversiteit.&nbsp;</p><p class="Normaalplat" pstyle="Normaal plat">Our Blue World volgt inspirerende mensen van over de hele wereld en laat zien hoe een combinatie van oude kennis en moderne wetenschap kan bijdragen aan een betere balans op aarde.&nbsp;</p><p class="Normaalplat" pstyle="Normaal plat">De film begint om 20.00 uur; vanaf 19.30 uur is er inloop met koffie en thee. De toegang is gratis, een vrijwillige bijdrage wordt op prijs gesteld. Aanmelden kan via e-mail: <a href="mailto:ttboxtel@gmail.com">ttboxtel@gmail.com</a>.</p>
LAST-MODIFIED:20260419T123534Z
LOCATION: Bibliotheek | Burgakker 4 Boxtel
SEQUENCE:0
STATUS:CONFIRMED
SUMMARY:Film Our Blue World
TRANSP:OPAQUE
END:VEVENT
END:VCALENDAR
