BEGIN:VCALENDAR
PRODID:-//PUBBLE//agenda//NL
VERSION:2.0
METHOD:PUBLISH
BEGIN:VEVENT
DTSTART:20260412T203645Z
DTEND:20260412T213645Z
DTSTAMP:20260419T123715Z
UID:04b41bb3-2cb9-4b21-a1f2-5ac5e776ccd2
CREATED:20260419T123715Z
NAME:Wandelexcursie De Kleuskes brabantscentrum.nl
X-WR-CALNAME:Wandelexcursie De Kleuskes
X-ALT-DESC;FMTTYPE=text/html:<a href='/agenda/2026/4/19/wandelexcursie-de-kleuskes-61952'>/agenda/2026/4/19/wandelexcursie-de-kleuskes-61952</a> || <p>Gastvrij Liempde houdt zondag 19 april een wandelexcursie met als thema De Kleuskes. De tocht start om 10.00 uur bij bezoekerscentrum Den Liempdsen Herd.</p><p>De excursie wordt begeleid door gidsen Wim van Erp en Hennie Kuppens. Centraal staat het verhaal van vijf vrijgezelle broers en zussen die na het overlijden van hun ouders samenwoonden in een boerderij aan de Oude Dijk. Zij leidden een eenvoudig bestaan en waren betrokken bij kerk en armenzorg.</p><p>De excursie kost vijf euro per persoon. Dit bedrag kan vooraf worden voldaan bij Den Liempdsen Herd aan de Barrierweg en is inclusief koffie of thee na afloop rond 12.00 uur.</p>
DESCRIPTION:<a href='/agenda/2026/4/19/wandelexcursie-de-kleuskes-61952'>/agenda/2026/4/19/wandelexcursie-de-kleuskes-61952</a> || <p>Gastvrij Liempde houdt zondag 19 april een wandelexcursie met als thema De Kleuskes. De tocht start om 10.00 uur bij bezoekerscentrum Den Liempdsen Herd.</p><p>De excursie wordt begeleid door gidsen Wim van Erp en Hennie Kuppens. Centraal staat het verhaal van vijf vrijgezelle broers en zussen die na het overlijden van hun ouders samenwoonden in een boerderij aan de Oude Dijk. Zij leidden een eenvoudig bestaan en waren betrokken bij kerk en armenzorg.</p><p>De excursie kost vijf euro per persoon. Dit bedrag kan vooraf worden voldaan bij Den Liempdsen Herd aan de Barrierweg en is inclusief koffie of thee na afloop rond 12.00 uur.</p>
LAST-MODIFIED:20260419T123715Z
LOCATION: D'n Liempdsen Herd | Barrierweg 4 Liempde
SEQUENCE:0
STATUS:CONFIRMED
SUMMARY:Wandelexcursie De Kleuskes
TRANSP:OPAQUE
END:VEVENT
END:VCALENDAR
