BEGIN:VCALENDAR
PRODID:-//PUBBLE//agenda//NL
VERSION:2.0
METHOD:PUBLISH
BEGIN:VEVENT
DTSTART:20260409T090326Z
DTEND:20260509T140000Z
DTSTAMP:20260419T123317Z
UID:a6406726-229d-4c4c-a21e-be6e452a97ff
CREATED:20260419T123317Z
NAME:Expositie De Kleuskes brabantscentrum.nl
X-WR-CALNAME:Expositie De Kleuskes
X-ALT-DESC;FMTTYPE=text/html:<a href='/agenda/2026/5/9/expositie-de-kleuskes-61920'>/agenda/2026/5/9/expositie-de-kleuskes-61920</a> || <p>In expositieruimte De Kleuskes wordt het leven en werken van de vijf vrijgezellen Kinderen Van der Velden in beeld gebracht. De expositie is elke tweede zaterdag van de maand geopend voor publiek en gratis toegankelijk.&nbsp;</p>
DESCRIPTION:<a href='/agenda/2026/5/9/expositie-de-kleuskes-61920'>/agenda/2026/5/9/expositie-de-kleuskes-61920</a> || <p>In expositieruimte De Kleuskes wordt het leven en werken van de vijf vrijgezellen Kinderen Van der Velden in beeld gebracht. De expositie is elke tweede zaterdag van de maand geopend voor publiek en gratis toegankelijk.&nbsp;</p>
LAST-MODIFIED:20260419T123317Z
LOCATION: De Kleuskes | Oude Dijk 19-21 Liempde
SEQUENCE:0
STATUS:CONFIRMED
SUMMARY:Expositie De Kleuskes
TRANSP:OPAQUE
END:VEVENT
END:VCALENDAR
