BEGIN:VCALENDAR
PRODID:-//PUBBLE//agenda//NL
VERSION:2.0
METHOD:PUBLISH
BEGIN:VEVENT
DTSTART:20260409T090216Z
DTEND:20260613T140000Z
DTSTAMP:20260419T153450Z
UID:62ff9808-ebf5-42be-bec5-c8c79fe15d50
CREATED:20260419T153450Z
NAME:Expositie De Kleuskes brabantscentrum.nl
X-WR-CALNAME:Expositie De Kleuskes
X-ALT-DESC;FMTTYPE=text/html:<a href='/agenda/2026/6/13/expositie-de-kleuskes-61919'>/agenda/2026/6/13/expositie-de-kleuskes-61919</a> || <p>In expositieruimte De Kleuskes wordt het leven en werken van de vijf vrijgezellen Kinderen Van der Velden in beeld gebracht. De expositie is elke tweede zaterdag van de maand geopend voor publiek en gratis toegankelijk.&nbsp;</p>
DESCRIPTION:<a href='/agenda/2026/6/13/expositie-de-kleuskes-61919'>/agenda/2026/6/13/expositie-de-kleuskes-61919</a> || <p>In expositieruimte De Kleuskes wordt het leven en werken van de vijf vrijgezellen Kinderen Van der Velden in beeld gebracht. De expositie is elke tweede zaterdag van de maand geopend voor publiek en gratis toegankelijk.&nbsp;</p>
LAST-MODIFIED:20260419T153450Z
LOCATION: De Kleuskes | Oude Dijk 19-21 Liempde
SEQUENCE:0
STATUS:CONFIRMED
SUMMARY:Expositie De Kleuskes
TRANSP:OPAQUE
END:VEVENT
END:VCALENDAR
