BEGIN:VCALENDAR
PRODID:-//PUBBLE//agenda//NL
VERSION:2.0
METHOD:PUBLISH
BEGIN:VEVENT
DTSTART:20260408T153832Z
DTEND:20260408T163832Z
DTSTAMP:20260419T123542Z
UID:51a1bf3e-4f89-4003-a371-9f96573b278b
CREATED:20260419T123542Z
NAME:Kampinatocht brabantscentrum.nl
X-WR-CALNAME:Kampinatocht
X-ALT-DESC;FMTTYPE=text/html:<a href='/agenda/2026/5/3/kampinatocht-61909'>/agenda/2026/5/3/kampinatocht-61909</a> || <p class="Inl" pstyle="Inl">De voorinschrijving voor de jaarlijkse Kampinatocht is begonnen. Wandelaars kunnen zich tot en met woensdag 29 april om 17.00 uur aanmelden.</p><p class="Normaalplat" pstyle="Normaal plat">Inschrijving is ook op de wandeldagen zelf mogelijk bij het startbureau B&amp;B d’n Hop, Luissel 19. De Kampinatocht vindt plaats op zaterdag 2 en zondag 3 mei. Deelnemers hebben de keuze uit zeven, vijftien, twintig of dertig kilometer. Bij startlocatie B&amp;B d’n Hop is voldoende parkeergelegenheid voor auto of fiets. Per openbaar vervoer is deze plek niet te bereiken.</p><p class="T1" pstyle="T1">STARTTIJDEN</p><p class="Normaalplat" pstyle="Normaal plat">Alle routes, ook de kortste, voeren door de Kampina. De starttijden zijn als volgt: dertig en twintig kilometer tussen 08.00 uur en 10.00 uur, vijftien kilometer tussen 09.00 en 11.00 uur, 7 kilometer tussen 10.00 en 13.00 uur. Afmelden na de tocht is niet verplicht, maar wel wenselijk.</p><p class="T1" pstyle="T1">PASJE</p><p class="Normaalplat" pstyle="Normaal plat">Deelname kost vijf euro per persoon. Kinderen tot twaalf jaar lopen gratis. Volwassenen die deze kinderen op de zeven kilometer begeleiden, betalen drie euro. Leden van de seniorenverenigingen Boxtel, Esch, Lennisheuvel en Liempde hoeven maar twee euro af te rekenen. Zij moeten dan wel hun lidmaatschapspasje tonen.</p><p class="Normaalplat" pstyle="Normaal plat">Voorinschrijven kan via het aanmeldformulier op <a href="//www.dekeistampers.nl">www.dekeistampers.nl</a>. Nadere informatie is te verkrijgen bij Geertje Schellekens van De Keistampers, onderdeel van Seniorenvereniging Boxtel, <a href="mailto:schellekens.g@home.nl">schellekens.g@home.nl</a> of 06 - 20 17 57 18.</p>
DESCRIPTION:<a href='/agenda/2026/5/3/kampinatocht-61909'>/agenda/2026/5/3/kampinatocht-61909</a> || <p class="Inl" pstyle="Inl">De voorinschrijving voor de jaarlijkse Kampinatocht is begonnen. Wandelaars kunnen zich tot en met woensdag 29 april om 17.00 uur aanmelden.</p><p class="Normaalplat" pstyle="Normaal plat">Inschrijving is ook op de wandeldagen zelf mogelijk bij het startbureau B&amp;B d’n Hop, Luissel 19. De Kampinatocht vindt plaats op zaterdag 2 en zondag 3 mei. Deelnemers hebben de keuze uit zeven, vijftien, twintig of dertig kilometer. Bij startlocatie B&amp;B d’n Hop is voldoende parkeergelegenheid voor auto of fiets. Per openbaar vervoer is deze plek niet te bereiken.</p><p class="T1" pstyle="T1">STARTTIJDEN</p><p class="Normaalplat" pstyle="Normaal plat">Alle routes, ook de kortste, voeren door de Kampina. De starttijden zijn als volgt: dertig en twintig kilometer tussen 08.00 uur en 10.00 uur, vijftien kilometer tussen 09.00 en 11.00 uur, 7 kilometer tussen 10.00 en 13.00 uur. Afmelden na de tocht is niet verplicht, maar wel wenselijk.</p><p class="T1" pstyle="T1">PASJE</p><p class="Normaalplat" pstyle="Normaal plat">Deelname kost vijf euro per persoon. Kinderen tot twaalf jaar lopen gratis. Volwassenen die deze kinderen op de zeven kilometer begeleiden, betalen drie euro. Leden van de seniorenverenigingen Boxtel, Esch, Lennisheuvel en Liempde hoeven maar twee euro af te rekenen. Zij moeten dan wel hun lidmaatschapspasje tonen.</p><p class="Normaalplat" pstyle="Normaal plat">Voorinschrijven kan via het aanmeldformulier op <a href="//www.dekeistampers.nl">www.dekeistampers.nl</a>. Nadere informatie is te verkrijgen bij Geertje Schellekens van De Keistampers, onderdeel van Seniorenvereniging Boxtel, <a href="mailto:schellekens.g@home.nl">schellekens.g@home.nl</a> of 06 - 20 17 57 18.</p>
LAST-MODIFIED:20260419T123542Z
LOCATION: B&B D’n Hop | Luissel 19 Boxtel
SEQUENCE:0
STATUS:CONFIRMED
SUMMARY:Kampinatocht
TRANSP:OPAQUE
END:VEVENT
END:VCALENDAR
