BEGIN:VCALENDAR
PRODID:-//PUBBLE//agenda//NL
VERSION:2.0
METHOD:PUBLISH
BEGIN:VEVENT
DTSTART:20260420T173000Z
DTEND:20260420T193000Z
DTSTAMP:20260419T123558Z
UID:fa40ac24-b093-4ae1-a8fa-15ee7281e0ae
CREATED:20260419T123558Z
NAME:Café Brein brabantscentrum.nl
X-WR-CALNAME:Café Brein
X-ALT-DESC;FMTTYPE=text/html:<a href='/agenda/2026/4/20/cafe-brein-61906'>/agenda/2026/4/20/cafe-brein-61906</a> || <p>ContourdeTwern houdt maandag 20 april Café Brein. Het thema is ‘levend verlies’.<br /><br /></p>
DESCRIPTION:<a href='/agenda/2026/4/20/cafe-brein-61906'>/agenda/2026/4/20/cafe-brein-61906</a> || <p>ContourdeTwern houdt maandag 20 april Café Brein. Het thema is ‘levend verlies’.<br /><br /></p>
LAST-MODIFIED:20260419T123558Z
LOCATION: Sint-Ursula | Sint-Ursula 12 Boxtel
SEQUENCE:0
STATUS:CONFIRMED
SUMMARY:Café Brein
TRANSP:OPAQUE
END:VEVENT
END:VCALENDAR
