BEGIN:VCALENDAR
PRODID:-//PUBBLE//agenda//NL
VERSION:2.0
METHOD:PUBLISH
BEGIN:VEVENT
DTSTART:20260408T111611Z
DTEND:20260408T121611Z
DTSTAMP:20260419T123558Z
UID:3add8e78-3066-44b5-b59d-9643f80f49a4
CREATED:20260419T123558Z
NAME:Avonddriedaagse brabantscentrum.nl
X-WR-CALNAME:Avonddriedaagse
X-ALT-DESC;FMTTYPE=text/html:<a href='/agenda/2026/5/7/avonddriedaagse-61903'>/agenda/2026/5/7/avonddriedaagse-61903</a> || <p class="Inl2kolommen" pstyle="Inl 2 kolommen">De Essche avonddriedaagse is dit keer net als vorig jaar in het voorjaar, maar iets eerder dan in 2025. Woensdag 6, donderdag 7 en vrijdag 8 mei kunnen de wandelschoenen uit de kast.</p><p pstyle="Normaal plat">De lopers kunnen kiezen voor vijf of tien kilometer. Start- en finishlocatie is telkens Ons Café aan de Leunisdijk 28. Deelnemers aan de kortste afstand starten op woensdag en donderdag tussen 18.00 en 18.30 uur en op vrijdag om 18.00 uur. De tien kilometer begint tussen 17.30 en 17.45 uur, behalve op vrijdag, dan vertrekken de wandelaars om 17.30 uur. Op de slotdag is er namelijk een feestelijke intocht. Vanaf de voetbalvelden van Essche Boys gaat fanfare Sint-Willibrordus voorop in de stoet, tot aan Ons Café.</p><p class="T1" pstyle="T1">AANMELDEN</p><p pstyle="Normaal plat">Wie één avond meeloopt, betaalt twee euro, twee avonden wandelen kost vier euro, drie avonden vijf. Aanmelden kan al, via de QR-code op de Facebookpagina van de Essche avonddriedaagse, of op de wandeldagen zelf bij Ons Café.</p>
DESCRIPTION:<a href='/agenda/2026/5/7/avonddriedaagse-61903'>/agenda/2026/5/7/avonddriedaagse-61903</a> || <p class="Inl2kolommen" pstyle="Inl 2 kolommen">De Essche avonddriedaagse is dit keer net als vorig jaar in het voorjaar, maar iets eerder dan in 2025. Woensdag 6, donderdag 7 en vrijdag 8 mei kunnen de wandelschoenen uit de kast.</p><p pstyle="Normaal plat">De lopers kunnen kiezen voor vijf of tien kilometer. Start- en finishlocatie is telkens Ons Café aan de Leunisdijk 28. Deelnemers aan de kortste afstand starten op woensdag en donderdag tussen 18.00 en 18.30 uur en op vrijdag om 18.00 uur. De tien kilometer begint tussen 17.30 en 17.45 uur, behalve op vrijdag, dan vertrekken de wandelaars om 17.30 uur. Op de slotdag is er namelijk een feestelijke intocht. Vanaf de voetbalvelden van Essche Boys gaat fanfare Sint-Willibrordus voorop in de stoet, tot aan Ons Café.</p><p class="T1" pstyle="T1">AANMELDEN</p><p pstyle="Normaal plat">Wie één avond meeloopt, betaalt twee euro, twee avonden wandelen kost vier euro, drie avonden vijf. Aanmelden kan al, via de QR-code op de Facebookpagina van de Essche avonddriedaagse, of op de wandeldagen zelf bij Ons Café.</p>
LAST-MODIFIED:20260419T123558Z
LOCATION: Ons Café | Leunisdijk 28 Esch
SEQUENCE:0
STATUS:CONFIRMED
SUMMARY:Avonddriedaagse
TRANSP:OPAQUE
END:VEVENT
END:VCALENDAR
