BEGIN:VCALENDAR
PRODID:-//PUBBLE//agenda//NL
VERSION:2.0
METHOD:PUBLISH
BEGIN:VEVENT
DTSTART:20260408T103152Z
DTEND:20260408T113152Z
DTSTAMP:20260421T083623Z
UID:fde2c395-3519-4fd8-8a0a-79ffd7b6fdb7
CREATED:20260421T083623Z
NAME:Rondleiding Herenboeren brabantscentrum.nl
X-WR-CALNAME:Rondleiding Herenboeren
X-ALT-DESC;FMTTYPE=text/html:<a href='/agenda/2026/4/25/rondleiding-herenboeren-61900'>/agenda/2026/4/25/rondleiding-herenboeren-61900</a> || <p class="Inl" pstyle="Inl">Bij Herenboeren Boxtel, in het Wilhelminapark, worden zaterdag 25 april om 10.30 uur rondleidingen gegeven over het terrein.</p><p class="Normaalplat" pstyle="Normaal plat">Aanmelden voor de excursies kan via <a href="https://wilhelminapark.herenboeren.nl/" rel="noopener noreferrer" target="_blank">www.wilhelminapark.herenboeren.nl</a>.</p><p class="Normaalplat" pstyle="Normaal plat">Deelnemers aan de rondleidingen krijgen informatie over hoe het concept van Herenboeren werkt. Ze ontvangen tevens een oogstpakketje.</p>
DESCRIPTION:<a href='/agenda/2026/4/25/rondleiding-herenboeren-61900'>/agenda/2026/4/25/rondleiding-herenboeren-61900</a> || <p class="Inl" pstyle="Inl">Bij Herenboeren Boxtel, in het Wilhelminapark, worden zaterdag 25 april om 10.30 uur rondleidingen gegeven over het terrein.</p><p class="Normaalplat" pstyle="Normaal plat">Aanmelden voor de excursies kan via <a href="https://wilhelminapark.herenboeren.nl/" rel="noopener noreferrer" target="_blank">www.wilhelminapark.herenboeren.nl</a>.</p><p class="Normaalplat" pstyle="Normaal plat">Deelnemers aan de rondleidingen krijgen informatie over hoe het concept van Herenboeren werkt. Ze ontvangen tevens een oogstpakketje.</p>
LAST-MODIFIED:20260421T083623Z
LOCATION: Herenboeren Wilhelminapark | Kampspoor  Boxtel
SEQUENCE:0
STATUS:CONFIRMED
SUMMARY:Rondleiding Herenboeren
TRANSP:OPAQUE
END:VEVENT
END:VCALENDAR
