BEGIN:VCALENDAR
PRODID:-//PUBBLE//agenda//NL
VERSION:2.0
METHOD:PUBLISH
BEGIN:VEVENT
DTSTART:20260408T103124Z
DTEND:20260408T113124Z
DTSTAMP:20260419T123317Z
UID:1d5f1c2d-444a-419c-b764-d31c1d54cac3
CREATED:20260419T123317Z
NAME:Rondleiding Herenboeren brabantscentrum.nl
X-WR-CALNAME:Rondleiding Herenboeren
X-ALT-DESC;FMTTYPE=text/html:<a href='/agenda/2026/4/18/rondleiding-herenboeren-61898'>/agenda/2026/4/18/rondleiding-herenboeren-61898</a> || <p class="Inl" pstyle="Inl">Bij Herenboeren Boxtel, in het Wilhelminapark, worden zaterdag 18 en zaterdag 25 april om 10.30 uur rondleidingen gegeven over het terrein.</p><p class="Normaalplat" pstyle="Normaal plat">Aanmelden voor de excursies kan via <a href="https://wilhelminapark.herenboeren.nl/" rel="noopener noreferrer" target="_blank">www.wilhelminapark.herenboeren.nl</a>.</p><p class="Normaalplat" pstyle="Normaal plat">Deelnemers aan de rondleidingen krijgen informatie over hoe het concept van Herenboeren werkt. Ze ontvangen tevens een oogstpakketje.</p>
DESCRIPTION:<a href='/agenda/2026/4/18/rondleiding-herenboeren-61898'>/agenda/2026/4/18/rondleiding-herenboeren-61898</a> || <p class="Inl" pstyle="Inl">Bij Herenboeren Boxtel, in het Wilhelminapark, worden zaterdag 18 en zaterdag 25 april om 10.30 uur rondleidingen gegeven over het terrein.</p><p class="Normaalplat" pstyle="Normaal plat">Aanmelden voor de excursies kan via <a href="https://wilhelminapark.herenboeren.nl/" rel="noopener noreferrer" target="_blank">www.wilhelminapark.herenboeren.nl</a>.</p><p class="Normaalplat" pstyle="Normaal plat">Deelnemers aan de rondleidingen krijgen informatie over hoe het concept van Herenboeren werkt. Ze ontvangen tevens een oogstpakketje.</p>
LAST-MODIFIED:20260419T123317Z
LOCATION: Herenboeren Wilhelminapark | Kampspoor  Boxtel
SEQUENCE:0
STATUS:CONFIRMED
SUMMARY:Rondleiding Herenboeren
TRANSP:OPAQUE
END:VEVENT
END:VCALENDAR
