BEGIN:VCALENDAR
PRODID:-//PUBBLE//agenda//NL
VERSION:2.0
METHOD:PUBLISH
BEGIN:VEVENT
DTSTART:20260408T090910Z
DTEND:20260408T100910Z
DTSTAMP:20260419T123305Z
UID:b83ab7c9-c7b3-4133-8e27-8885eb2258e9
CREATED:20260419T123305Z
NAME:Rondleiding Noteneters brabantscentrum.nl
X-WR-CALNAME:Rondleiding Noteneters
X-ALT-DESC;FMTTYPE=text/html:<a href='/agenda/2026/5/3/rondleiding-noteneters-61893'>/agenda/2026/5/3/rondleiding-noteneters-61893</a> || <p class="Inl" pstyle="Inl">De Noteneters geven zondag 3 mei vanaf 11.00 uur een rondleiding door hun voedselbos. De lente is daarin momenteel duidelijk zichtbaar.</p><p class="Normaalplat" pstyle="Normaal plat">Bezoekers krijgen uitleg over de opbouw van het voedselbos, de verschillende lagen en het belang van bodemverbetering. Ook wordt stilgestaan bij de dieren die inmiddels hun weg naar het gebied hebben gevonden. De bijeenkomst wordt afgesloten met een gratis kop soep.</p><p class="Normaalplat" pstyle="Normaal plat">De jonge aanplant op het perceel aan de Gemondse Beemd slaat goed aan en staat inmiddels volop in bloei. Volgens de initiatiefnemers groeien niet alleen de bomen, maar neemt ook de betrokkenheid van mensen toe. Samen planten en werken in het groen zorgt voor ontspanning, beweging en vooral gezelligheid.<br />In de afgelopen twee jaar zijn meer dan 5.000 bomen en struiken geplant. De komende periode ligt de focus op biodiversiteit, met onder meer bijvriendelijke beplanting en een bloemenmengsel dat insecten aantrekt.</p><p class="T1" pstyle="T1">AANMELDEN</p><p class="Normaalplat" pstyle="Normaal plat">Elke maandagochtend en derde zaterdagochtend van de maand wordt er van 09.00 tot 12.00 uur in het voedselbos gewerkt. Vrijwilligers zijn welkom om een handje te helpen. Aanmelden kan via e-mail <a data-fr-linked="true" href="mailto:denoteneters@gmail.com">denoteneters@gmail.com</a>.</p>
DESCRIPTION:<a href='/agenda/2026/5/3/rondleiding-noteneters-61893'>/agenda/2026/5/3/rondleiding-noteneters-61893</a> || <p class="Inl" pstyle="Inl">De Noteneters geven zondag 3 mei vanaf 11.00 uur een rondleiding door hun voedselbos. De lente is daarin momenteel duidelijk zichtbaar.</p><p class="Normaalplat" pstyle="Normaal plat">Bezoekers krijgen uitleg over de opbouw van het voedselbos, de verschillende lagen en het belang van bodemverbetering. Ook wordt stilgestaan bij de dieren die inmiddels hun weg naar het gebied hebben gevonden. De bijeenkomst wordt afgesloten met een gratis kop soep.</p><p class="Normaalplat" pstyle="Normaal plat">De jonge aanplant op het perceel aan de Gemondse Beemd slaat goed aan en staat inmiddels volop in bloei. Volgens de initiatiefnemers groeien niet alleen de bomen, maar neemt ook de betrokkenheid van mensen toe. Samen planten en werken in het groen zorgt voor ontspanning, beweging en vooral gezelligheid.<br />In de afgelopen twee jaar zijn meer dan 5.000 bomen en struiken geplant. De komende periode ligt de focus op biodiversiteit, met onder meer bijvriendelijke beplanting en een bloemenmengsel dat insecten aantrekt.</p><p class="T1" pstyle="T1">AANMELDEN</p><p class="Normaalplat" pstyle="Normaal plat">Elke maandagochtend en derde zaterdagochtend van de maand wordt er van 09.00 tot 12.00 uur in het voedselbos gewerkt. Vrijwilligers zijn welkom om een handje te helpen. Aanmelden kan via e-mail <a data-fr-linked="true" href="mailto:denoteneters@gmail.com">denoteneters@gmail.com</a>.</p>
LAST-MODIFIED:20260419T123305Z
LOCATION: Notenbos | De Schoonberg  Gemonde
SEQUENCE:0
STATUS:CONFIRMED
SUMMARY:Rondleiding Noteneters
TRANSP:OPAQUE
END:VEVENT
END:VCALENDAR
