BEGIN:VCALENDAR
PRODID:-//PUBBLE//agenda//NL
VERSION:2.0
METHOD:PUBLISH
BEGIN:VEVENT
DTSTART:20260407T153518Z
DTEND:20260407T163518Z
DTSTAMP:20260421T083106Z
UID:b1a80d42-1ebc-4dfd-b3b6-898926e046f4
CREATED:20260421T083106Z
NAME:Samen aan tafel brabantscentrum.nl
X-WR-CALNAME:Samen aan tafel
X-ALT-DESC;FMTTYPE=text/html:<a href='/agenda/2026/4/20/samen-aan-tafel-61888'>/agenda/2026/4/20/samen-aan-tafel-61888</a> || <p>Protestantse Gemeente Boxtel houdt maandag 20 april haar maandelijkse gezamenlijke maaltijd. Wie mee wil eten, kan vanaf 17.45 uur terecht in De Schakel, Clarissenstraat 18. Gasten wordt een vrijwillige bijdrage gevraagd. Iedereen, ongeacht geloof, afkomst of leeftijd is welkom. Aanmelden kan tot en met donderdag 16 april via samenaantafel@pg-boxtel.nl of telefonisch ná 18.00 uur bij Andrea Peters via telefoonnummer 06-12 22 47 44.</p>
DESCRIPTION:<a href='/agenda/2026/4/20/samen-aan-tafel-61888'>/agenda/2026/4/20/samen-aan-tafel-61888</a> || <p>Protestantse Gemeente Boxtel houdt maandag 20 april haar maandelijkse gezamenlijke maaltijd. Wie mee wil eten, kan vanaf 17.45 uur terecht in De Schakel, Clarissenstraat 18. Gasten wordt een vrijwillige bijdrage gevraagd. Iedereen, ongeacht geloof, afkomst of leeftijd is welkom. Aanmelden kan tot en met donderdag 16 april via samenaantafel@pg-boxtel.nl of telefonisch ná 18.00 uur bij Andrea Peters via telefoonnummer 06-12 22 47 44.</p>
LAST-MODIFIED:20260421T083106Z
LOCATION: De Schakel | Clarissenstraat 18 Boxtel
SEQUENCE:0
STATUS:CONFIRMED
SUMMARY:Samen aan tafel
TRANSP:OPAQUE
END:VEVENT
END:VCALENDAR
