BEGIN:VCALENDAR
PRODID:-//PUBBLE//agenda//NL
VERSION:2.0
METHOD:PUBLISH
BEGIN:VEVENT
DTSTART:20260407T151030Z
DTEND:20260407T161030Z
DTSTAMP:20260419T123223Z
UID:f3f1b91b-04ef-476c-9f89-7af01e44ab01
CREATED:20260419T123223Z
NAME:Lezing MuBo brabantscentrum.nl
X-WR-CALNAME:Lezing MuBo
X-ALT-DESC;FMTTYPE=text/html:<a href='/agenda/2026/4/19/lezing-mubo-61885'>/agenda/2026/4/19/lezing-mubo-61885</a> || <p class="Inl" pstyle="Inl">Architect Karlijn de Wild geeft zondag 19 april in Museum Boxtel aan de Baroniestraat 18 een lezing. Die gaat over het ontstaan van de wijken in Boxtel.</p><p>De Wild weet waarover ze praat, want behalve dat ze over de nodige vakkennis beschikt, is ze in het dorp opgegroeid. Haar presentatie duurt van 11.00 tot 12.45 uur.</p><p>Voor Nederlandse begrippen kent Boxtel exemplarische voorbeelden van wijkaanleg en stedenbouwkundige planologie. De negentiende-eeuwse wijk Breukelen bijvoorbeeld, en de juist jonge buurt Heem van Selis.</p><p>De Wild vertelt hoe wijken vroeger werden gevormd en nu. Ze gaat in op hoe Boxtel zich ontwikkelde tot wat het nu is.</p><p>Een bezoek aan de lezing kost acht euro, met museumkaart drie. Reserveren is noodzakelijk en kan via aanmelden@muboboxtel.nl of telefonisch bij Willem van Vossen op telefoonnumer 06-16 04 18 98.</p>
DESCRIPTION:<a href='/agenda/2026/4/19/lezing-mubo-61885'>/agenda/2026/4/19/lezing-mubo-61885</a> || <p class="Inl" pstyle="Inl">Architect Karlijn de Wild geeft zondag 19 april in Museum Boxtel aan de Baroniestraat 18 een lezing. Die gaat over het ontstaan van de wijken in Boxtel.</p><p>De Wild weet waarover ze praat, want behalve dat ze over de nodige vakkennis beschikt, is ze in het dorp opgegroeid. Haar presentatie duurt van 11.00 tot 12.45 uur.</p><p>Voor Nederlandse begrippen kent Boxtel exemplarische voorbeelden van wijkaanleg en stedenbouwkundige planologie. De negentiende-eeuwse wijk Breukelen bijvoorbeeld, en de juist jonge buurt Heem van Selis.</p><p>De Wild vertelt hoe wijken vroeger werden gevormd en nu. Ze gaat in op hoe Boxtel zich ontwikkelde tot wat het nu is.</p><p>Een bezoek aan de lezing kost acht euro, met museumkaart drie. Reserveren is noodzakelijk en kan via aanmelden@muboboxtel.nl of telefonisch bij Willem van Vossen op telefoonnumer 06-16 04 18 98.</p>
LAST-MODIFIED:20260419T123223Z
LOCATION: Museum MuBo | Baroniestraat 18 Boxtel
SEQUENCE:0
STATUS:CONFIRMED
SUMMARY:Lezing MuBo
TRANSP:OPAQUE
END:VEVENT
END:VCALENDAR
