BEGIN:VCALENDAR
PRODID:-//PUBBLE//agenda//NL
VERSION:2.0
METHOD:PUBLISH
BEGIN:VEVENT
DTSTART:20260301T122500Z
DTEND:20260301T132500Z
DTSTAMP:20260419T204847Z
UID:b1b3be80-0e72-4325-9d64-3810cb7cc97f
CREATED:20260419T204847Z
NAME:Seniorenwandeling brabantscentrum.nl
X-WR-CALNAME:Seniorenwandeling
X-ALT-DESC;FMTTYPE=text/html:<a href='/agenda/2026/3/11/seniorenwandeling-61468'>/agenda/2026/3/11/seniorenwandeling-61468</a> || <p class="K4CentreerAllekolommen" pstyle="K4Centreer Alle kolommen">Senioren kunnen woensdag 11 maart mee met een begeleide natuurwandeling van Natuurgroep Gestel die start in Gemonde.</p><p class="Normaalplat" pstyle="Normaal plat">Deelnemers wandelen het ommetje De Hogert. Met de enthousiaste gidsen van de natuurgroep wordt het meer dan zomaar een rondje lopen. Onderweg vertellen zij over het landschap rond Sint-Michielsgestel en delen zij verhalen over dierensporen, planten en paddenstoelen die in dit seizoen te zien zijn. Zo wordt iedere wandeling een kleine ontdekkingstocht.</p><p class="Normaalplat" pstyle="Normaal plat">De seniorenwandeling vindt iedere tweede woensdag van de maand plaats. Na afloop is er gelegenheid om samen koffie te drinken en na te praten. Deelname is gratis; voor de koffie wordt een vrijwillige bijdrage gevraagd.&nbsp;</p><p class="Normaalplat" pstyle="Normaal plat">De wandeling van 11 maart start om 10.00 uur vanaf het kerkplein van de Sint-Lambertuskerk in Gemonde. Rond 11.30 uur keert de groep terug. Meer informatie via Michel van de Langenberg op telefoonnummer 06-22 43 29 41 of <a href="mailto:michel.langenberg@home.nl">michel.langenberg@home.nl</a>.</p>
DESCRIPTION:<a href='/agenda/2026/3/11/seniorenwandeling-61468'>/agenda/2026/3/11/seniorenwandeling-61468</a> || <p class="K4CentreerAllekolommen" pstyle="K4Centreer Alle kolommen">Senioren kunnen woensdag 11 maart mee met een begeleide natuurwandeling van Natuurgroep Gestel die start in Gemonde.</p><p class="Normaalplat" pstyle="Normaal plat">Deelnemers wandelen het ommetje De Hogert. Met de enthousiaste gidsen van de natuurgroep wordt het meer dan zomaar een rondje lopen. Onderweg vertellen zij over het landschap rond Sint-Michielsgestel en delen zij verhalen over dierensporen, planten en paddenstoelen die in dit seizoen te zien zijn. Zo wordt iedere wandeling een kleine ontdekkingstocht.</p><p class="Normaalplat" pstyle="Normaal plat">De seniorenwandeling vindt iedere tweede woensdag van de maand plaats. Na afloop is er gelegenheid om samen koffie te drinken en na te praten. Deelname is gratis; voor de koffie wordt een vrijwillige bijdrage gevraagd.&nbsp;</p><p class="Normaalplat" pstyle="Normaal plat">De wandeling van 11 maart start om 10.00 uur vanaf het kerkplein van de Sint-Lambertuskerk in Gemonde. Rond 11.30 uur keert de groep terug. Meer informatie via Michel van de Langenberg op telefoonnummer 06-22 43 29 41 of <a href="mailto:michel.langenberg@home.nl">michel.langenberg@home.nl</a>.</p>
LAST-MODIFIED:20260419T204847Z
LOCATION: Sint-Lambertuskerk | St.Lambertusweg 122 Gemonde
SEQUENCE:0
STATUS:CONFIRMED
SUMMARY:Seniorenwandeling
TRANSP:OPAQUE
END:VEVENT
END:VCALENDAR
