BEGIN:VCALENDAR
PRODID:-//PUBBLE//agenda//NL
VERSION:2.0
METHOD:PUBLISH
BEGIN:VEVENT
DTSTART:20260818T070000Z
DTEND:20260821T150000Z
DTSTAMP:20260419T124026Z
UID:05ca9c10-a5a2-42ae-896f-2f6cc205a192
CREATED:20260419T124026Z
NAME:Jeugdvakantieweek Liempde brabantscentrum.nl
X-WR-CALNAME:Jeugdvakantieweek Liempde
X-ALT-DESC;FMTTYPE=text/html:<a href='/agenda/2026/8/18/jeugdvakantieweek-liempde-60924'>/agenda/2026/8/18/jeugdvakantieweek-liempde-60924</a> || <p>Een week voor alle kinderen uit Liempde die in groep 3 t/m 8 zitten op de basisschool. Tijdens de week is er een bouwdorp, zeskamp, bosspellen, workshops enz.</p>
DESCRIPTION:<a href='/agenda/2026/8/18/jeugdvakantieweek-liempde-60924'>/agenda/2026/8/18/jeugdvakantieweek-liempde-60924</a> || <p>Een week voor alle kinderen uit Liempde die in groep 3 t/m 8 zitten op de basisschool. Tijdens de week is er een bouwdorp, zeskamp, bosspellen, workshops enz.</p>
LAST-MODIFIED:20260419T124026Z
LOCATION: Pius X | Heidonk 28 Liempde
SEQUENCE:0
STATUS:CONFIRMED
SUMMARY:Jeugdvakantieweek Liempde
TRANSP:OPAQUE
END:VEVENT
END:VCALENDAR
