BEGIN:VCALENDAR
PRODID:-//PUBBLE//agenda//NL
VERSION:2.0
METHOD:PUBLISH
BEGIN:VEVENT
DTSTART:20261011T060000Z
DTEND:20261011T100000Z
DTSTAMP:20260419T150543Z
UID:7b3e634a-1096-4708-b021-ccae5128d339
CREATED:20260419T150543Z
NAME:Broodbakdemonstratie D’n Liempdsen Herd brabantscentrum.nl
X-WR-CALNAME:Broodbakdemonstratie D’n Liempdsen Herd
X-ALT-DESC;FMTTYPE=text/html:<a href='/agenda/2026/10/11/broodbakdemonstratie-d-n-liempdsen-herd-60902'>/agenda/2026/10/11/broodbakdemonstratie-d-n-liempdsen-herd-60902</a> || <p>Vanaf 10.00 uur ‘s ochtends kun je het bakhuisje op het achtererf van D’n Liempdsen Herd binnenstappen voor een kijkje achter de schermen in het charmante bakhuisje. De toegang is gratis. Het bakkersgilde van D’n Liempdsen Herd staat weer klaar om met passie witte en bruine broden te bakken, vaak aangevuld met een andere specialiteit. Ook geven ze graag uitleg over het bakproces en de rijke historie van het bakhuisje. Rond 12.00 uur komen de eerste broden uit de oven, klaar om geproefd te worden. Deze heerlijke broden zijn altijd erg gewild, dus wees er snel bij want op=op!</p>
DESCRIPTION:<a href='/agenda/2026/10/11/broodbakdemonstratie-d-n-liempdsen-herd-60902'>/agenda/2026/10/11/broodbakdemonstratie-d-n-liempdsen-herd-60902</a> || <p>Vanaf 10.00 uur ‘s ochtends kun je het bakhuisje op het achtererf van D’n Liempdsen Herd binnenstappen voor een kijkje achter de schermen in het charmante bakhuisje. De toegang is gratis. Het bakkersgilde van D’n Liempdsen Herd staat weer klaar om met passie witte en bruine broden te bakken, vaak aangevuld met een andere specialiteit. Ook geven ze graag uitleg over het bakproces en de rijke historie van het bakhuisje. Rond 12.00 uur komen de eerste broden uit de oven, klaar om geproefd te worden. Deze heerlijke broden zijn altijd erg gewild, dus wees er snel bij want op=op!</p>
LAST-MODIFIED:20260419T150543Z
LOCATION: D'n Liempdsen Herd | Barrierweg 4 Liempde
SEQUENCE:0
STATUS:CONFIRMED
SUMMARY:Broodbakdemonstratie D’n Liempdsen Herd
TRANSP:OPAQUE
END:VEVENT
END:VCALENDAR
