BEGIN:VCALENDAR
PRODID:-//PUBBLE//agenda//NL
VERSION:2.0
METHOD:PUBLISH
BEGIN:VEVENT
DTSTART:20250813T101226Z
DTEND:20250823T180000Z
DTSTAMP:20260419T123715Z
UID:91cf40d6-d81e-4fff-83b4-560f115f07fd
CREATED:20260419T123715Z
NAME:Hezelaarse Hopfeesten brabantscentrum.nl
X-WR-CALNAME:Hezelaarse Hopfeesten
X-ALT-DESC;FMTTYPE=text/html:<a href='/agenda/2025/8/23/hezelaarse-hopfeesten-59428'>/agenda/2025/8/23/hezelaarse-hopfeesten-59428</a> || <p>Tijdens de Hezelaarse Hopfeesten kan volop lokaal gebrouwen bier - met Hezelaarse hop als ingrediënt - geproefd worden. Het bier wordt geschonken in aardewerk kannen, die door een pottenbakker zijn vervaardigd. Verder worden tal van streekproducten aangeprezen, zijn erfgoed- en natuurverenigingen present en is er ruimte voor kinderspelen en muziek. Om 16.00 uur is er een officieel moment en wordt een hopprinses gekozen. Bezoekers wordt aangeraden om op de fiets te komen.</p>
DESCRIPTION:<a href='/agenda/2025/8/23/hezelaarse-hopfeesten-59428'>/agenda/2025/8/23/hezelaarse-hopfeesten-59428</a> || <p>Tijdens de Hezelaarse Hopfeesten kan volop lokaal gebrouwen bier - met Hezelaarse hop als ingrediënt - geproefd worden. Het bier wordt geschonken in aardewerk kannen, die door een pottenbakker zijn vervaardigd. Verder worden tal van streekproducten aangeprezen, zijn erfgoed- en natuurverenigingen present en is er ruimte voor kinderspelen en muziek. Om 16.00 uur is er een officieel moment en wordt een hopprinses gekozen. Bezoekers wordt aangeraden om op de fiets te komen.</p>
LAST-MODIFIED:20260419T123715Z
LOCATION: De Brouwakker | Hezelaarsestraat 11 Liempde
SEQUENCE:0
STATUS:CONFIRMED
SUMMARY:Hezelaarse Hopfeesten
TRANSP:OPAQUE
END:VEVENT
END:VCALENDAR
