BEGIN:VCALENDAR
PRODID:-//PUBBLE//agenda//NL
VERSION:2.0
METHOD:PUBLISH
BEGIN:VEVENT
DTSTART:20230611T120000Z
DTEND:20230611T130000Z
DTSTAMP:20260421T160723Z
UID:50aa1f00-7114-45b7-beac-bfaa7eb0ffb6
CREATED:20260421T160723Z
NAME:Elisabethsdael BBQ en BINGO met MUZIEK brabantscentrum.nl
X-WR-CALNAME:Elisabethsdael BBQ en BINGO met MUZIEK
X-ALT-DESC;FMTTYPE=text/html:<a href='/agenda/2023/6/11/elisabethsdael-bbq-en-bingo-met-muziek-50007'>/agenda/2023/6/11/elisabethsdael-bbq-en-bingo-met-muziek-50007</a> || <p>Elisabethsdael en Aquavaria presenteren BBQ en Bingo met een muziekmiddag. In totaal 6 ronden Bingo met een hoofdprijs van € 300,– Al voor € 25,– kunt u meedoen. Entree € 25,– (incl. BBQ en Bingo) kaarten bestellen voor 8 juni. Bel: 06 1253 6197 verkoop kaarten Elisabethsdael</p>
DESCRIPTION:<a href='/agenda/2023/6/11/elisabethsdael-bbq-en-bingo-met-muziek-50007'>/agenda/2023/6/11/elisabethsdael-bbq-en-bingo-met-muziek-50007</a> || <p>Elisabethsdael en Aquavaria presenteren BBQ en Bingo met een muziekmiddag. In totaal 6 ronden Bingo met een hoofdprijs van € 300,– Al voor € 25,– kunt u meedoen. Entree € 25,– (incl. BBQ en Bingo) kaarten bestellen voor 8 juni. Bel: 06 1253 6197 verkoop kaarten Elisabethsdael</p>
LAST-MODIFIED:20260421T160723Z
LOCATION: Elisabethsdael | Mgr. Bekkersstraat 6 Boxtel
SEQUENCE:0
STATUS:CONFIRMED
SUMMARY:Elisabethsdael BBQ en BINGO met MUZIEK
TRANSP:OPAQUE
END:VEVENT
END:VCALENDAR
